BEGIN:VCALENDAR
VERSION:2.0
PRODID:-//wp-events-plugin.com//7.2.3.1//EN
BEGIN:VEVENT
UID:13@carus-management.de
DTSTART;VALUE=DATE:20181106
DTEND;VALUE=DATE:20181107
DTSTAMP:20181011T092145Z
URL:https://www.carus-management.de/veranstaltungen/ane-dresdner-anaesthes
 iegespraeche-2/
SUMMARY:ANE - Dresdner Anästhesiegespräche
DESCRIPTION:Flyer_DresdnerAnsthesiegespräche2018\n\nOffenlegung Sponsoren 
 - 06.11.18\n\nFlyer inkl. Offenlegungen Dresdner Anästhesiegespräche 201
 8
END:VEVENT
END:VCALENDAR