BEGIN:VCALENDAR
VERSION:2.0
PRODID:-//wp-events-plugin.com//7.2.3.1//EN
BEGIN:VEVENT
UID:935@carus-management.de
DTSTART:20220329T173000Z
DTEND:20220329T203000Z
DTSTAMP:20220321T134903Z
URL:https://www.carus-management.de/veranstaltungen/ane-dresdner-anaesthes
 iegespraeche-18/
SUMMARY:ANE - Dresdner Anästhesiegespräche
DESCRIPTION:Anästhesiegespräche_Flyer_2022\n\nOffenlegung Sponsoren - 29.
 03.22
LOCATION:Dorint Hotel Dresden\, Grunaer Str. 14\, Dresden\, Sachsen\, 01069
 \, Deutschland
X-APPLE-STRUCTURED-LOCATION;VALUE=URI;X-ADDRESS=Grunaer Str. 14\, Dresden\,
  Sachsen\, 01069\, Deutschland;X-APPLE-RADIUS=100;X-TITLE=Dorint Hotel Dre
 sden:geo:0,0
END:VEVENT
END:VCALENDAR