BEGIN:VCALENDAR
VERSION:2.0
PRODID:-//wp-events-plugin.com//7.2.3.1//EN
BEGIN:VEVENT
UID:794@carus-management.de
DTSTART:20211123T173000Z
DTEND:20211123T203000Z
DTSTAMP:20220104T145332Z
URL:https://www.carus-management.de/veranstaltungen/ane-dresdner-anaesthes
 iegespraeche-17/
SUMMARY:ANE - Dresdner Anästhesiegespräche - ABGESAGT
DESCRIPTION:Ihre persönlichen Daten werden gemäß DSGVO verarbeitet und i
 m Rahmen unserer Veranstaltungsorganisation genutzt. Dieser Nutzung stimme
 n Sie mit Ihrer Anmeldung zu. Weitere Informationen können Sie unter www
 .carus-management.de/datenschutz und www.ukdd.de/de/impressum#Datenschutz 
 einsehen.\n\nFlyer_Dresdner Anästhesiegespräche 2021_Stand_13.09.2021\
 n\nOffenlegung Sponsoren - 23.11.21_Stand_16.11.2021
LOCATION:Dorint Hotel Dresden\, Grunaer Str. 14\, Dresden\, Sachsen\, 01069
 \, Deutschland
X-APPLE-STRUCTURED-LOCATION;VALUE=URI;X-ADDRESS=Grunaer Str. 14\, Dresden\,
  Sachsen\, 01069\, Deutschland;X-APPLE-RADIUS=100;X-TITLE=Dorint Hotel Dre
 sden:geo:0,0
END:VEVENT
END:VCALENDAR