BEGIN:VCALENDAR
VERSION:2.0
PRODID:-//wp-events-plugin.com//7.2.3.1//EN
BEGIN:VEVENT
UID:647@carus-management.de
DTSTART:20200121T173000Z
DTEND:20200121T210000Z
DTSTAMP:20200929T124210Z
URL:https://www.carus-management.de/veranstaltungen/ane-dresdner-anaesthes
 iegespraeche-12/
SUMMARY:ANE - Dresdner Anästhesiegespräche
DESCRIPTION:Programm + Offenlegung Dresdner Anästhesiegespräche 2020
LOCATION:Dorint Hotel Dresden\, Grunaer Str. 14\, Dresden\, Sachsen\, 01069
 \, Deutschland
X-APPLE-STRUCTURED-LOCATION;VALUE=URI;X-ADDRESS=Grunaer Str. 14\, Dresden\,
  Sachsen\, 01069\, Deutschland;X-APPLE-RADIUS=100;X-TITLE=Dorint Hotel Dre
 sden:geo:0,0
END:VEVENT
END:VCALENDAR