BEGIN:VCALENDAR
VERSION:2.0
PRODID:-//wp-events-plugin.com//7.2.3.1//EN
BEGIN:VEVENT
UID:1028@carus-management.de
DTSTART:20231111T000000Z
DTEND:20231111T000000Z
DTSTAMP:20230102T105039Z
URL:https://www.carus-management.de/veranstaltungen/als-kurs-refresher-2/
SUMMARY:ALS-Kurs - Refresher
DESCRIPTION:
LOCATION:Universitätsklinikum Dresden\, Fetscherstraße 74\, Dresden\, 013
 07\, Deutschland
X-APPLE-STRUCTURED-LOCATION;VALUE=URI;X-ADDRESS=Fetscherstraße 74\, Dresde
 n\, 01307\, Deutschland;X-APPLE-RADIUS=100;X-TITLE=Universitätsklinikum D
 resden:geo:0,0
END:VEVENT
END:VCALENDAR