BEGIN:VCALENDAR
VERSION:2.0
PRODID:-//wp-events-plugin.com//7.2.3.1//EN
BEGIN:VEVENT
UID:968@carus-management.de
DTSTART:20220705T190000Z
DTEND:20220705T203000Z
DTSTAMP:20220630T084441Z
URL:https://www.carus-management.de/veranstaltungen/aerztepodcast-therapie
 update-ms-nmo/
SUMMARY:Ärztepodcast: Therapieupdate MS/NMO
DESCRIPTION:Flyer Ärztepodcast_05_Juli_2022
LOCATION:virtuelle Veranstaltung\,  \,  \, Deutschland
X-APPLE-STRUCTURED-LOCATION;VALUE=URI;X-ADDRESS= \,  \, Deutschland;X-APPLE
 -RADIUS=100;X-TITLE=virtuelle Veranstaltung:geo:0,0
END:VEVENT
END:VCALENDAR