BEGIN:VCALENDAR
VERSION:2.0
PRODID:-//wp-events-plugin.com//7.2.3.1//EN
BEGIN:VEVENT
UID:981@carus-management.de
DTSTART:20220906T190000Z
DTEND:20220906T203000Z
DTSTAMP:20220822T131353Z
URL:https://www.carus-management.de/veranstaltungen/aerztepodcast-ms-bioma
 rker-des-ms-zentrums/
SUMMARY:Ärztepodcast des MS-Zentrums: "MS Biomarker"
DESCRIPTION:Flyer Ärztepodcast_06_Sept_2022
END:VEVENT
END:VCALENDAR