BEGIN:VCALENDAR
VERSION:2.0
PRODID:-//wp-events-plugin.com//7.2.3.1//EN
BEGIN:VEVENT
UID:1112@carus-management.de
DTSTART:20231202T080000Z
DTEND:20231202T170000Z
DTSTAMP:20231013T085613Z
URL:https://www.carus-management.de/veranstaltungen/adventssymposium-des-m
 s-zentrums/
SUMMARY:Adventssymposium des MS-Zentrums
DESCRIPTION:
LOCATION:Gläserne Manufaktur\, Lennéstraße 1\, Dresden\, 01069\, Deutsch
 land
X-APPLE-STRUCTURED-LOCATION;VALUE=URI;X-ADDRESS=Lennéstraße 1\, Dresden\,
  01069\, Deutschland;X-APPLE-RADIUS=100;X-TITLE=Gläserne Manufaktur:geo:0
 ,0
END:VEVENT
END:VCALENDAR