BEGIN:VCALENDAR
VERSION:2.0
PRODID:-//wp-events-plugin.com//7.2.3.1//EN
BEGIN:VEVENT
UID:1081@carus-management.de
DTSTART:20231110T093000Z
DTEND:20231110T140000Z
DTSTAMP:20231106T131756Z
URL:https://www.carus-management.de/veranstaltungen/9-workshop-darmsonogra
 phie/
SUMMARY:Workshop Darmsonografie
DESCRIPTION:[fusion_builder_container type="flex" hundred_percent="no" equa
 l_height_columns="no" menu_anchor="" hide_on_mobile="small-visibility\,med
 ium-visibility\,large-visibility" class="" id="" background_color="" backg
 round_image="" background_position="center center" background_repeat="no-r
 epeat" fade="no" background_parallax="none" parallax_speed="0.3" video_mp4
 ="" video_webm="" video_ogv="" video_url="" video_aspect_ratio="16:9" vide
 o_loop="yes" video_mute="yes" overlay_color="" video_preview_image="" bord
 er_color="" border_style="solid" padding_top="" padding_bottom="" padding_
 left="" padding_right=""][fusion_builder_row][fusion_builder_column type="
 1_1" layout="1_1" background_position="left top" background_color="" borde
 r_color="" border_style="solid" border_position="all" spacing="yes" backgr
 ound_image="" background_repeat="no-repeat" padding_top="" padding_right="
 " padding_bottom="" padding_left="" margin_top="0px" margin_bottom="0px" c
 lass="" id="" animation_type="" animation_speed="0.3" animation_direction=
 "left" hide_on_mobile="small-visibility\,medium-visibility\,large-visibili
 ty" center_content="no" last="true" min_height="" hover_type="none" link="
 " border_sizes_top="" border_sizes_bottom="" border_sizes_left="" border_s
 izes_right="" first="true"][fusion_text]\n\nFlyer Darmsonografie 10.11.202
 3[/fusion_text][/fusion_builder_column][/fusion_builder_row][/fusion_build
 er_container][fusion_builder_container type="flex" hundred_percent="no" eq
 ual_height_columns="no" menu_anchor="" hide_on_mobile="small-visibility\,m
 edium-visibility\,large-visibility" class="" id="" background_color="" bac
 kground_image="" background_position="center center" background_repeat="no
 -repeat" fade="no" background_parallax="none" parallax_speed="0.3" video_m
 p4="" video_webm="" video_ogv="" video_url="" video_aspect_ratio="16:9" vi
 deo_loop="yes" video_mute="yes" overlay_color="" video_preview_image="" bo
 rder_color="" border_style="solid" padding_top="" padding_bottom="" paddin
 g_left="" padding_right=""][fusion_builder_row][fusion_builder_column type
 ="1_1" layout="1_1" background_position="left top" background_color="" bor
 der_color="" border_style="solid" border_position="all" spacing="yes" back
 ground_image="" background_repeat="no-repeat" padding_top="" padding_right
 ="" padding_bottom="" padding_left="" margin_top="0px" margin_bottom="0px"
  class="" id="" animation_type="" animation_speed="0.3" animation_directio
 n="left" hide_on_mobile="small-visibility\,medium-visibility\,large-visibi
 lity" center_content="no" last="true" min_height="" hover_type="none" link
 ="" border_sizes_top="" border_sizes_bottom="" border_sizes_left="" border
 _sizes_right="" first="true"][fusion_text]\n\n[/fusion_text][/fusion_build
 er_column][/fusion_builder_row][/fusion_builder_container]
LOCATION:Universitätsklinikum Dresden\, Fetscherstraße 74\, Dresden\, 013
 07\, Deutschland
X-APPLE-STRUCTURED-LOCATION;VALUE=URI;X-ADDRESS=Fetscherstraße 74\, Dresde
 n\, 01307\, Deutschland;X-APPLE-RADIUS=100;X-TITLE=Universitätsklinikum D
 resden:geo:0,0
END:VEVENT
END:VCALENDAR