BEGIN:VCALENDAR
VERSION:2.0
PRODID:-//wp-events-plugin.com//7.2.3.1//EN
BEGIN:VEVENT
UID:1468@carus-management.de
DTSTART:20260506T180000Z
DTEND:20260506T203000Z
DTSTAMP:20260330T114057Z
URL:https://www.carus-management.de/veranstaltungen/68-klinischer-abend-re
 ktumkarzinom-aktuelle-strategien/
SUMMARY:68. Klinischer Abend - Rektumkarzinom – aktuelle Strategien
DESCRIPTION:68.KA_Programm_Rektumkarzinom
LOCATION:Universitätsklinikum Dresden\, Fetscherstraße 74\, Dresden\, 013
 07\, Deutschland
X-APPLE-STRUCTURED-LOCATION;VALUE=URI;X-ADDRESS=Fetscherstraße 74\, Dresde
 n\, 01307\, Deutschland;X-APPLE-RADIUS=100;X-TITLE=Universitätsklinikum D
 resden:geo:0,0
END:VEVENT
END:VCALENDAR