BEGIN:VCALENDAR
VERSION:2.0
PRODID:-//wp-events-plugin.com//7.2.3.1//EN
BEGIN:VEVENT
UID:1406@carus-management.de
DTSTART:20251210T160000Z
DTEND:20251210T170000Z
DTSTAMP:20251126T115403Z
URL:https://www.carus-management.de/veranstaltungen/6223/
SUMMARY:UAC Weiterbildung „HAE eine interdisziplinäre Herausforderung in
  der Diagnostik und Therapie“
DESCRIPTION:[fusion_builder_container type="flex" hundred_percent="no" equa
 l_height_columns="no" menu_anchor="" hide_on_mobile="small-visibility\,med
 ium-visibility\,large-visibility" class="" id="" background_color="" backg
 round_image="" background_position="center center" background_repeat="no-r
 epeat" fade="no" background_parallax="none" parallax_speed="0.3" video_mp4
 ="" video_webm="" video_ogv="" video_url="" video_aspect_ratio="16:9" vide
 o_loop="yes" video_mute="yes" overlay_color="" video_preview_image="" bord
 er_color="" border_style="solid" padding_top="" padding_bottom="" padding_
 left="" padding_right=""][fusion_builder_row][fusion_builder_column type="
 1_1" layout="1_1" background_position="left top" background_color="" borde
 r_color="" border_style="solid" border_position="all" spacing="yes" backgr
 ound_image="" background_repeat="no-repeat" padding_top="" padding_right="
 " padding_bottom="" padding_left="" margin_top="0px" margin_bottom="0px" c
 lass="" id="" animation_type="" animation_speed="0.3" animation_direction=
 "left" hide_on_mobile="small-visibility\,medium-visibility\,large-visibili
 ty" center_content="no" last="true" min_height="" hover_type="none" link="
 " border_sizes_top="" border_sizes_bottom="" border_sizes_left="" border_s
 izes_right="" first="true"][fusion_text]\n\nHAE Einladung final mit Sponso
 r Stand 26.11.25[/fusion_text][/fusion_builder_column][/fusion_builder_row
 ][/fusion_builder_container][fusion_builder_container type="flex" hundred_
 percent="no" equal_height_columns="no" menu_anchor="" hide_on_mobile="smal
 l-visibility\,medium-visibility\,large-visibility" class="" id="" backgrou
 nd_color="" background_image="" background_position="center center" backgr
 ound_repeat="no-repeat" fade="no" background_parallax="none" parallax_spee
 d="0.3" video_mp4="" video_webm="" video_ogv="" video_url="" video_aspect_
 ratio="16:9" video_loop="yes" video_mute="yes" overlay_color="" video_prev
 iew_image="" border_color="" border_style="solid" padding_top="" padding_b
 ottom="" padding_left="" padding_right=""][fusion_builder_row][fusion_buil
 der_column type="1_1" layout="1_1" background_position="left top" backgrou
 nd_color="" border_color="" border_style="solid" border_position="all" spa
 cing="yes" background_image="" background_repeat="no-repeat" padding_top="
 " padding_right="" padding_bottom="" padding_left="" margin_top="0px" marg
 in_bottom="0px" class="" id="" animation_type="" animation_speed="0.3" ani
 mation_direction="left" hide_on_mobile="small-visibility\,medium-visibilit
 y\,large-visibility" center_content="no" last="true" min_height="" hover_t
 ype="none" link="" border_sizes_top="" border_sizes_bottom="" border_sizes
 _left="" border_sizes_right="" first="true"][fusion_text]\n\nOffenlegung U
 AC Weiterbidlung 10.12.25[/fusion_text][/fusion_builder_column][/fusion_bu
 ilder_row][/fusion_builder_container][fusion_builder_container type="flex"
  hundred_percent="no" equal_height_columns="no" menu_anchor="" hide_on_mob
 ile="small-visibility\,medium-visibility\,large-visibility" class="" id=""
  background_color="" background_image="" background_position="center cente
 r" background_repeat="no-repeat" fade="no" background_parallax="none" para
 llax_speed="0.3" video_mp4="" video_webm="" video_ogv="" video_url="" vide
 o_aspect_ratio="16:9" video_loop="yes" video_mute="yes" overlay_color="" v
 ideo_preview_image="" border_color="" border_style="solid" padding_top="" 
 padding_bottom="" padding_left="" padding_right=""][fusion_builder_row][/f
 usion_builder_row][/fusion_builder_container]
LOCATION:Universitätsklinikum Dresden\, Fetscherstraße 74\, Dresden\, 013
 07\, Deutschland
X-APPLE-STRUCTURED-LOCATION;VALUE=URI;X-ADDRESS=Fetscherstraße 74\, Dresde
 n\, 01307\, Deutschland;X-APPLE-RADIUS=100;X-TITLE=Universitätsklinikum D
 resden:geo:0,0
END:VEVENT
END:VCALENDAR