BEGIN:VCALENDAR
VERSION:2.0
PRODID:-//wp-events-plugin.com//7.2.3.1//EN
BEGIN:VEVENT
UID:1403@carus-management.de
DTSTART:20251104T090000Z
DTEND:20251104T160000Z
DTSTAMP:20251104T072945Z
URL:https://www.carus-management.de/veranstaltungen/6207/
SUMMARY:Facettendenervation unter CT-Kontrolle mit Mikrowellenablation
DESCRIPTION:&nbsp\;\n\nProgramm:\n\nFacettendenervation unter CT-Kontrolle 
 mit Mikrowellenablation am 04 Nov 2025_RAD\n\nOffenlegung der Sponsoren:\n
 \nOffenlegung Sponsoren - Facettendenervation unter CT-Kontrolle mit Mikro
 wellenablation am 04.11.2025\n\n&nbsp\;
LOCATION:Universitätsklinikum Dresden\, Fetscherstraße 74\, Dresden\, 013
 07\, Deutschland
X-APPLE-STRUCTURED-LOCATION;VALUE=URI;X-ADDRESS=Fetscherstraße 74\, Dresde
 n\, 01307\, Deutschland;X-APPLE-RADIUS=100;X-TITLE=Universitätsklinikum D
 resden:geo:0,0
END:VEVENT
END:VCALENDAR