BEGIN:VCALENDAR
VERSION:2.0
PRODID:-//wp-events-plugin.com//7.2.3.1//EN
BEGIN:VEVENT
UID:1238@carus-management.de
DTSTART;VALUE=DATE:20240903
DTEND;VALUE=DATE:20240904
DTSTAMP:20240704T075631Z
URL:https://www.carus-management.de/veranstaltungen/6-nct-ucc-benefizlauf-
 fortschritt-gegen-krebs/
SUMMARY:6. NCT/UCC-Benefizlauf „FortSCHRITT gegen Krebs“
DESCRIPTION:Flyer_Benefizlauf_2024\n\n[fusion_builder_container type="flex"
  hundred_percent="no" equal_height_columns="no" menu_anchor="" hide_on_mob
 ile="small-visibility\,medium-visibility\,large-visibility" class="" id=""
  background_color="" background_image="" background_position="center cente
 r" background_repeat="no-repeat" fade="no" background_parallax="none" para
 llax_speed="0.3" video_mp4="" video_webm="" video_ogv="" video_url="" vide
 o_aspect_ratio="16:9" video_loop="yes" video_mute="yes" overlay_color="" v
 ideo_preview_image="" border_color="" border_style="solid" padding_top="" 
 padding_bottom="" padding_left="" padding_right=""][fusion_builder_row][fu
 sion_builder_column type="1_1" layout="1_1" background_position="left top"
  background_color="" border_color="" border_style="solid" border_position=
 "all" spacing="yes" background_image="" background_repeat="no-repeat" padd
 ing_top="" padding_right="" padding_bottom="" padding_left="" margin_top="
 0px" margin_bottom="0px" class="" id="" animation_type="" animation_speed=
 "0.3" animation_direction="left" hide_on_mobile="small-visibility\,medium-
 visibility\,large-visibility" center_content="no" last="true" min_height="
 " hover_type="none" link="" border_sizes_top="" border_sizes_bottom="" bor
 der_sizes_left="" border_sizes_right="" first="true"][fusion_text]\n\nhttp
 s://www.nct-dresden.de/das-nctucc-dresden/spenden/nctucc-benefizlauf/anmel
 dung-lauf-2024.html\n\n[/fusion_text][/fusion_builder_column][/fusion_buil
 der_row][/fusion_builder_container]
END:VEVENT
END:VCALENDAR