BEGIN:VCALENDAR
VERSION:2.0
PRODID:-//wp-events-plugin.com//7.2.3.1//EN
BEGIN:VEVENT
UID:1310@carus-management.de
DTSTART:20250311T173000Z
DTEND:20250311T200000Z
DTSTAMP:20250305T101835Z
URL:https://www.carus-management.de/veranstaltungen/5577/
SUMMARY:Dresdner Anästhesiegespräche
DESCRIPTION:&nbsp\;\n\nProgramm:\n\nFlyer_DAG_2025_\n\nOffenlegung:\n\nOffe
 nlegung Sponsoren - 11.03.2025
LOCATION:Haus der Kirche Dresden - Dreikönigskirche\, Hauptstr. 23\, Dresd
 en\, 01097\, Deutschland
X-APPLE-STRUCTURED-LOCATION;VALUE=URI;X-ADDRESS=Hauptstr. 23\, Dresden\, 01
 097\, Deutschland;X-APPLE-RADIUS=100;X-TITLE=Haus der Kirche Dresden - Dre
 ikönigskirche:geo:0,0
END:VEVENT
END:VCALENDAR