BEGIN:VCALENDAR
VERSION:2.0
PRODID:-//wp-events-plugin.com//7.2.3.1//EN
BEGIN:VEVENT
UID:1424@carus-management.de
DTSTART:20260228T080000Z
DTEND:20260228T180000Z
DTSTAMP:20260225T103906Z
URL:https://www.carus-management.de/veranstaltungen/4-dresdner-symposium-h
 aemostase-in-ains-hains/
SUMMARY:4. Dresdner Symposium "Hämostase in AINS" (HAINS)
DESCRIPTION:[fusion_builder_container type="flex" hundred_percent="no" equa
 l_height_columns="no" menu_anchor="" hide_on_mobile="small-visibility\,med
 ium-visibility\,large-visibility" class="" id="" background_color="" backg
 round_image="" background_position="center center" background_repeat="no-r
 epeat" fade="no" background_parallax="none" parallax_speed="0.3" video_mp4
 ="" video_webm="" video_ogv="" video_url="" video_aspect_ratio="16:9" vide
 o_loop="yes" video_mute="yes" overlay_color="" video_preview_image="" bord
 er_color="" border_style="solid" padding_top="" padding_bottom="" padding_
 left="" padding_right=""][fusion_builder_row][fusion_builder_column type="
 1_1" layout="1_1" background_position="left top" background_color="" borde
 r_color="" border_style="solid" border_position="all" spacing="yes" backgr
 ound_image="" background_repeat="no-repeat" padding_top="" padding_right="
 " padding_bottom="" padding_left="" margin_top="0px" margin_bottom="0px" c
 lass="" id="" animation_type="" animation_speed="0.3" animation_direction=
 "left" hide_on_mobile="small-visibility\,medium-visibility\,large-visibili
 ty" center_content="no" last="true" min_height="" hover_type="none" link="
 " border_sizes_top="" border_sizes_bottom="" border_sizes_left="" border_s
 izes_right="" first="true"][fusion_text][fusion_text][fusion_text]\n\nFlye
 r HAINS_2026 am 28.02.2026\n\nVeröffentlichung Sponsoring 4. Dresdner Sym
 posium Hämostase in AINS 28.02.26\n\n[/fusion_text][/fusion_builder_colum
 n][/fusion_builder_row][/fusion_builder_container][fusion_builder_containe
 r type="flex" hundred_percent="no" equal_height_columns="no" menu_anchor="
 " hide_on_mobile="small-visibility\,medium-visibility\,large-visibility" c
 lass="" id="" background_color="" background_image="" background_position=
 "center center" background_repeat="no-repeat" fade="no" background_paralla
 x="none" parallax_speed="0.3" video_mp4="" video_webm="" video_ogv="" vide
 o_url="" video_aspect_ratio="16:9" video_loop="yes" video_mute="yes" overl
 ay_color="" video_preview_image="" border_color="" border_style="solid" pa
 dding_top="" padding_bottom="" padding_left="" padding_right=""][/fusion_b
 uilder_container]
LOCATION:Haus der Kirche Dresden - Dreikönigskirche\, Hauptstr. 23\, Dresd
 en\, 01097\, Deutschland
X-APPLE-STRUCTURED-LOCATION;VALUE=URI;X-ADDRESS=Hauptstr. 23\, Dresden\, 01
 097\, Deutschland;X-APPLE-RADIUS=100;X-TITLE=Haus der Kirche Dresden - Dre
 ikönigskirche:geo:0,0
END:VEVENT
END:VCALENDAR