BEGIN:VCALENDAR
VERSION:2.0
PRODID:-//wp-events-plugin.com//7.2.3.1//EN
BEGIN:VEVENT
UID:1454@carus-management.de
DTSTART;VALUE=DATE:20260918
DTEND;VALUE=DATE:20260920
DTSTAMP:20251212T070245Z
URL:https://www.carus-management.de/veranstaltungen/27-jahrestagung-das-hu
 ngrige-selbst-wenn-essen-zur-sprache-wird-aktuelle-perspektiven-auf-esssto
 erungen/
SUMMARY:27. Jahrestagung „Das hungrige Selbst – wenn Essen zur Sprache 
 wird: Aktuelle Perspektiven auf Essstörungen“
DESCRIPTION:
END:VEVENT
END:VCALENDAR