BEGIN:VCALENDAR
VERSION:2.0
PRODID:-//wp-events-plugin.com//7.2.3.1//EN
BEGIN:VEVENT
UID:1039@carus-management.de
DTSTART:20230325T090000Z
DTEND:20230325T130000Z
DTSTAMP:20230206T123904Z
URL:https://www.carus-management.de/veranstaltungen/25-transfusionsmedizin
 isches-seminar/
SUMMARY:25. Transfusionsmedizinisches Seminar
DESCRIPTION:Programm 2023 - Trafu-Seminar 25.03.23
END:VEVENT
END:VCALENDAR