BEGIN:VCALENDAR
VERSION:2.0
PRODID:-//wp-events-plugin.com//7.2.3.1//EN
BEGIN:VEVENT
UID:1516@carus-management.de
DTSTART:20261027T080000Z
DTEND:20261027T160000Z
DTSTAMP:20260420T053845Z
URL:https://www.carus-management.de/veranstaltungen/24-dresdner-pflegetag-
 2026-im-rathaus-dresden/
SUMMARY:24. Dresdner Pflegetag 2026 - im Rathaus Dresden
DESCRIPTION:[fusion_builder_container type="flex" hundred_percent="no" hund
 red_percent_height="no" min_height_medium="" min_height_small="" min_heigh
 t="" hundred_percent_height_scroll="no" align_content="stretch" flex_align
 _items="flex-start" flex_justify_content="flex-start" flex_wrap_medium="" 
 flex_wrap_small="" flex_wrap="wrap" flex_column_spacing="" hundred_percent
 _height_center_content="yes" equal_height_columns="no" container_tag="div"
  menu_anchor="" hide_on_mobile="small-visibility\,medium-visibility\,large
 -visibility" status="published" publish_date="" class="" id="" html_attrib
 utes="" spacing_medium="" margin_top_medium="" margin_bottom_medium="" spa
 cing_small="" margin_top_small="" margin_bottom_small="" margin_top="" mar
 gin_bottom="" padding_dimensions_medium="" padding_top_medium="" padding_r
 ight_medium="" padding_bottom_medium="" padding_left_medium="" padding_dim
 ensions_small="" padding_top_small="" padding_right_small="" padding_botto
 m_small="" padding_left_small="" padding_top="" padding_right="" padding_b
 ottom="" padding_left="" link_hover_color="" link_color="" border_sizes=""
  border_sizes_top="" border_sizes_right="" border_sizes_bottom="" border_s
 izes_left="" border_color="" border_style="solid" border_radius_top_left="
 " border_radius_top_right="" border_radius_bottom_right="" border_radius_b
 ottom_left="" box_shadow="no" box_shadow_vertical="" box_shadow_horizontal
 ="" box_shadow_blur="0" box_shadow_spread="0" box_shadow_color="" box_shad
 ow_style="" z_index="" overflow="" background_color_medium="" background_c
 olor_small="" background_color="" gradient_start_color="" gradient_end_col
 or="" gradient_start_position="0" gradient_end_position="100" gradient_typ
 e="linear" radial_direction="center center" linear_angle="180" background_
 image_medium="" background_image_small="" background_image="" skip_lazy_lo
 ad="" background_position_medium="" background_position_small="" backgroun
 d_position="center center" background_repeat_medium="" background_repeat_s
 mall="" background_repeat="no-repeat" background_size_medium="" background
 _size_small="" background_size="" background_custom_size="" background_cus
 tom_size_medium="" background_custom_size_small="" fade="no" background_pa
 rallax="none" enable_mobile="no" parallax_speed="0.3" background_blend_mod
 e_medium="" background_blend_mode_small="" background_blend_mode="none" ba
 ckground_slider_images="" background_slider_position="" background_slider_
 skip_lazy_loading="no" background_slider_random_order="no" background_slid
 er_loop="yes" background_slider_pause_on_hover="no" background_slider_slid
 eshow_speed="5000" background_slider_animation="fade" background_slider_di
 rection="up" background_slider_animation_speed="800" background_slider_ble
 nd_mode="" video_mp4="" video_webm="" video_ogv="" video_url="" video_aspe
 ct_ratio="16:9" video_loop="yes" video_mute="yes" video_preview_image="" p
 attern_bg="none" pattern_custom_bg="" pattern_bg_color="" pattern_bg_style
 ="default" pattern_bg_opacity="100" pattern_bg_size="" pattern_bg_blend_mo
 de="normal" mask_bg="none" mask_custom_bg="" mask_bg_color="" mask_bg_acce
 nt_color="" mask_bg_style="default" mask_bg_opacity="100" mask_bg_transfor
 m="left" mask_bg_blend_mode="normal" render_logics="" logics="" absolute="
 off" absolute_devices="small\,medium\,large" position_offset_medium="" pos
 ition_top_medium="" position_right_medium="" position_bottom_medium="" pos
 ition_left_medium="" position_offset_small="" position_top_small="" positi
 on_right_small="" position_bottom_small="" position_left_small="" position
 _top="" position_right="" position_bottom="" position_left="" sticky="off"
  sticky_devices="small-visibility\,medium-visibility\,large-visibility" st
 icky_background_color="" sticky_height="" sticky_offset="" sticky_transiti
 on_offset="0" scroll_offset="0" animation_type="" animation_direction="lef
 t" animation_color="" animation_speed="0.3" animation_delay="0" animation_
 offset="" filter_hue="0" filter_saturation="100" filter_brightness="100" f
 ilter_contrast="100" filter_invert="0" filter_sepia="0" filter_opacity="10
 0" filter_blur="0" filter_hue_hover="0" filter_saturation_hover="100" filt
 er_brightness_hover="100" filter_contrast_hover="100" filter_invert_hover=
 "0" filter_sepia_hover="0" filter_opacity_hover="100" filter_blur_hover="0
 "][fusion_builder_row][fusion_builder_column type="1_1" layout="1_1" align
 _self="auto" content_layout="column" align_content="flex-start" valign_con
 tent="flex-start" dimension_gap_medium="" dimension_gap_small="" dimension
 _gap="" content_wrap="wrap" spacing="" center_content="no" column_tag="div
 " link="" target="_self" link_description="" min_height="" hide_on_mobile=
 "small-visibility\,medium-visibility\,large-visibility" sticky_display="no
 rmal\,sticky" class="" id="" html_attributes="" type_medium="" type_small=
 "" max_height_medium="" max_height_small="" max_height="" flex_grow_medium
 ="" flex_grow_small="" flex_grow="" flex_shrink_medium="" flex_shrink_smal
 l="" flex_shrink="" order_medium="0" order_small="0" dimension_spacing_med
 ium="" dimension_spacing_small="" dimension_spacing="" dimension_margin_me
 dium="" dimension_margin_small="" margin_top="" margin_bottom="" padding_m
 edium="" padding_small="" padding_top="" padding_right="" padding_bottom="
 " padding_left="" hover_type="none" border_sizes="" border_color_hover="" 
 border_color="" border_style="solid" border_radius="" box_shadow="no" dime
 nsion_box_shadow="" box_shadow_blur="0" box_shadow_spread="0" box_shadow_c
 olor="" box_shadow_style="" z_index_hover="" z_index="" overflow="" backgr
 ound_type="single" background_color_medium="" background_color_small="" ba
 ckground_color_medium_hover="" background_color_small_hover="" background_
 color_hover="" background_color="" gradient_start_color="" gradient_end_co
 lor="" gradient_start_position="0" gradient_end_position="100" gradient_ty
 pe="linear" radial_direction="center center" linear_angle="180" background
 _image_medium="" background_image_small="" background_image="" background_
 image_id_medium="" background_image_id_small="" background_image_id="" laz
 y_load="avada" skip_lazy_load="" background_position_medium="" background_
 position_small="" background_position="left top" background_repeat_medium=
 "" background_repeat_small="" background_repeat="no-repeat" background_siz
 e_medium="" background_size_small="" background_size="" background_custom_
 size="" background_custom_size_medium="" background_custom_size_small="" b
 ackground_blend_mode_medium="" background_blend_mode_small="" background_b
 lend_mode="none" background_slider_images="" background_slider_position=""
  background_slider_skip_lazy_loading="no" background_slider_random_order="
 no" background_slider_loop="yes" background_slider_pause_on_hover="no" bac
 kground_slider_slideshow_speed="5000" background_slider_animation="fade" b
 ackground_slider_direction="up" background_slider_animation_speed="800" ba
 ckground_slider_blend_mode="" render_logics="" sticky="off" sticky_devices
 ="small-visibility\,medium-visibility\,large-visibility" sticky_offset="" 
 absolute="off" absolute_props="" filter_type="regular" filter_hover_elemen
 t="self" filter_hue="0" filter_saturation="100" filter_brightness="100" fi
 lter_contrast="100" filter_invert="0" filter_sepia="0" filter_opacity="100
 " filter_blur="0" filter_hue_hover="0" filter_saturation_hover="100" filte
 r_brightness_hover="100" filter_contrast_hover="100" filter_invert_hover="
 0" filter_sepia_hover="0" filter_opacity_hover="100" filter_blur_hover="0"
  transform_type="regular" transform_hover_element="self" transform_scale_x
 ="1" transform_scale_y="1" transform_translate_x="0" transform_translate_y
 ="0" transform_rotate="0" transform_skew_x="0" transform_skew_y="0" transf
 orm_scale_x_hover="1" transform_scale_y_hover="1" transform_translate_x_ho
 ver="0" transform_translate_y_hover="0" transform_rotate_hover="0" transfo
 rm_skew_x_hover="0" transform_skew_y_hover="0" transform_origin="" transit
 ion_duration="300" transition_easing="ease" transition_custom_easing="" mo
 tion_effects="" scroll_motion_devices="small-visibility\,medium-visibility
 \,large-visibility" animation_type="" animation_direction="left" animation
 _color="" animation_speed="0.3" animation_delay="0" animation_offset="" la
 st="true" border_position="all" first="true"][fusion_accordion type="accor
 dions" inactive_icon="fa-file-download fas" active_icon="" margin_top="" m
 argin_bottom="" hide_on_mobile="small-visibility\,medium-visibility\,large
 -visibility" class="" id="" boxed_mode="yes" border_size="0" border_color=
 "" hue="" saturation="" lightness="" alpha="" hover_color="" background_co
 lor="var(--awb-color4)" divider_line="" divider_hover_color="" divider_col
 or="" padding_top="" padding_right="" padding_bottom="" padding_left="" ti
 tle_tag="h5" fusion_font_family_title_font="" fusion_font_variant_title_fo
 nt="" title_font_size="" title_line_height="" title_letter_spacing="" titl
 e_text_transform="" title_color="var(--awb-color1)" icon_size="" icon_colo
 r="var(--awb-color1)" icon_boxed_mode="no" icon_box_color="" icon_alignmen
 t="" fusion_font_family_content_font="" fusion_font_variant_content_font="
 " content_font_size="" content_line_height="" content_letter_spacing="" co
 ntent_text_transform="" content_color="#333333" toggle_hover_accent_color=
 "" toggle_active_accent_color="" render_logics="" parent_dynamic_content="
 "][fusion_toggle title="Programm herunterladen" open="no" awb-switch-edito
 r-focus="" class="" id="" fusion_font_family_title_font="" fusion_font_var
 iant_title_font="" title_font_size="" title_line_height="" title_letter_sp
 acing="" title_text_transform="" title_color="#007864" hue="" saturation="
 " lightness="" alpha="" fusion_font_family_content_font="" fusion_font_var
 iant_content_font="" content_font_size="" content_line_height="" content_l
 etter_spacing="" content_text_transform="" content_color="#333333"]\n\nfol
 gt\n\n[/fusion_toggle][/fusion_accordion][fusion_text columns="" column_mi
 n_width="" column_spacing="" rule_style="" rule_size="" rule_color="" hue=
 "" saturation="" lightness="" alpha="" user_select="" awb-switch-editor-fo
 cus="" content_alignment_medium="" content_alignment_small="" content_alig
 nment="" disable_idd="no" hide_on_mobile="small-visibility\,medium-visibil
 ity\,large-visibility" sticky_display="normal\,sticky" class="" id="" html
 _attributes="W10=" width_medium="" width_small="" width="" min_width_mediu
 m="" min_width_small="" min_width="" max_width_medium="" max_width_small="
 " max_width="" margin_top_medium="" margin_right_medium="" margin_bottom_m
 edium="" margin_left_medium="" margin_top_small="" margin_right_small="" m
 argin_bottom_small="" margin_left_small="" margin_top="" margin_right="" m
 argin_bottom="" margin_left="" fusion_font_family_text_font="" fusion_font
 _variant_text_font="" font_size="" line_height="" letter_spacing="" text_t
 ransform="" text_color="" render_logics="" logics="" animation_type="" ani
 mation_direction="left" animation_color="" animation_speed="0.3" animation
 _delay="0" animation_offset=""]\n\nAnmeldeschluss: 19.10.2026\n\n[/fusion_
 text][fusion_text columns="" column_min_width="" column_spacing="" rule_st
 yle="" rule_size="" rule_color="" hue="" saturation="" lightness="" alpha=
 "" user_select="" awb-switch-editor-focus="" content_alignment_medium="" c
 ontent_alignment_small="" content_alignment="" disable_idd="no" hide_on_mo
 bile="small-visibility\,medium-visibility\,large-visibility" sticky_displa
 y="normal\,sticky" class="" id="" html_attributes="W10=" width_medium="" w
 idth_small="" width="" min_width_medium="" min_width_small="" min_width=""
  max_width_medium="" max_width_small="" max_width="" margin_top_medium="" 
 margin_right_medium="" margin_bottom_medium="" margin_left_medium="" margi
 n_top_small="" margin_right_small="" margin_bottom_small="" margin_left_sm
 all="" margin_top="" margin_right="" margin_bottom="" margin_left="" fusio
 n_font_family_text_font="" fusion_font_variant_text_font="" font_size="" l
 ine_height="" letter_spacing="" text_transform="" text_color="" render_log
 ics="" logics="" animation_type="" animation_direction="left" animation_co
 lor="" animation_speed="0.3" animation_delay="0" animation_offset=""]\nSto
 rnierungsbedingungen:\n\n 	Bis zum 30.09.2026: vollständige Rückerstattu
 ng\n 	Ab 01.10.2026: keine Rückerstattung\n\n[/fusion_text][/fusion_build
 er_column][/fusion_builder_row][/fusion_builder_container]
LOCATION:Rathaus Dresden\, Dr. Külz-Ring 19\, Dresden\, Sachsen\, 01067\, 
 Deutschland
X-APPLE-STRUCTURED-LOCATION;VALUE=URI;X-ADDRESS=Dr. Külz-Ring 19\, Dresden
 \, Sachsen\, 01067\, Deutschland;X-APPLE-RADIUS=100;X-TITLE=Rathaus Dresde
 n:geo:0,0
END:VEVENT
END:VCALENDAR