BEGIN:VCALENDAR
VERSION:2.0
PRODID:-//wp-events-plugin.com//7.2.3.1//EN
BEGIN:VEVENT
UID:1397@carus-management.de
DTSTART;VALUE=DATE:20260618
DTEND;VALUE=DATE:20260620
DTSTAMP:20260416T120819Z
URL:https://www.carus-management.de/veranstaltungen/20-dresdner-gefaesstag
 ung/
SUMMARY:20. Dresdner Gefäßtagung
DESCRIPTION:vorläufiger Flyer_20. Dresdner-Gefäßtagung 18.-19.06.2026
LOCATION:HYPERION Hotel Dresden am Schloss\, Schlossstraße 16\, Dresden\, 
 01067\, Deutschland
X-APPLE-STRUCTURED-LOCATION;VALUE=URI;X-ADDRESS=Schlossstraße 16\, Dresden
 \, 01067\, Deutschland;X-APPLE-RADIUS=100;X-TITLE=HYPERION Hotel Dresden a
 m Schloss:geo:0,0
END:VEVENT
END:VCALENDAR