BEGIN:VCALENDAR
VERSION:2.0
PRODID:-//wp-events-plugin.com//7.2.3.1//EN
BEGIN:VEVENT
UID:1400@carus-management.de
DTSTART:20251108T090000Z
DTEND:20251108T163000Z
DTSTAMP:20251104T073054Z
URL:https://www.carus-management.de/veranstaltungen/20-dresdner-atemwegssy
 mposium/
SUMMARY:20. Dresdner Atemwegssymposium
DESCRIPTION:&nbsp\;\n\nProgramm/Flyer:\n\nFlyer_Atemweg_2025 (03.11.)\n\nOf
 fenlegung der Sponsoren:\n\nOffenlegung Sponsoren - Atemwegssymposium 08.1
 1.2025
LOCATION:Sächsische Landesärztekammer Dresden\, Schützenhöhe 16\, Dresd
 en\, 01099\, Deutschland
X-APPLE-STRUCTURED-LOCATION;VALUE=URI;X-ADDRESS=Schützenhöhe 16\, Dresden
 \, 01099\, Deutschland;X-APPLE-RADIUS=100;X-TITLE=Sächsische Landesärzte
 kammer Dresden:geo:0,0
END:VEVENT
END:VCALENDAR