BEGIN:VCALENDAR
VERSION:2.0
PRODID:-//wp-events-plugin.com//7.2.3.1//EN
BEGIN:VEVENT
UID:480@carus-management.de
DTSTART;VALUE=DATE:20181117
DTEND;VALUE=DATE:20181118
DTSTAMP:20181023T130031Z
URL:https://www.carus-management.de/veranstaltungen/20-dresdener-symposium
 -komplexe-behandlung-von-fehlbildungen-im-kiefer-gesichtsbereich/
SUMMARY:20. Dresdener Symposium - Komplexe Behandlung von Fehlbildungen im 
 Kiefer-Gesichtsbereich
DESCRIPTION:20. DD Symposium 17.11.18
END:VEVENT
END:VCALENDAR