BEGIN:VCALENDAR
VERSION:2.0
PRODID:-//wp-events-plugin.com//7.2.3.1//EN
BEGIN:VEVENT
UID:1088@carus-management.de
DTSTART;VALUE=DATE:20231215
DTEND;VALUE=DATE:20231217
DTSTAMP:20231206T133451Z
URL:https://www.carus-management.de/veranstaltungen/2-dresdner-symposium-h
 aemostase-in-ains-hains/
SUMMARY:2. Dresdner Symposium "Hämostase in AINS" (HAINS)
DESCRIPTION:Flyer 2. Dresdner Symposium Hämostase in AINS (HAINS) - 15.-16
 .12.23\n\n[fusion_builder_container type="flex" hundred_percent="no" equal
 _height_columns="no" menu_anchor="" hide_on_mobile="small-visibility\,medi
 um-visibility\,large-visibility" class="" id="" background_color="" backgr
 ound_image="" background_position="center center" background_repeat="no-re
 peat" fade="no" background_parallax="none" parallax_speed="0.3" video_mp4=
 "" video_webm="" video_ogv="" video_url="" video_aspect_ratio="16:9" video
 _loop="yes" video_mute="yes" overlay_color="" video_preview_image="" borde
 r_color="" border_style="solid" padding_top="" padding_bottom="" padding_l
 eft="" padding_right=""][fusion_builder_row][fusion_builder_column type="1
 _1" layout="1_1" background_position="left top" background_color="" border
 _color="" border_style="solid" border_position="all" spacing="yes" backgro
 und_image="" background_repeat="no-repeat" padding_top="" padding_right=""
  padding_bottom="" padding_left="" margin_top="0px" margin_bottom="0px" cl
 ass="" id="" animation_type="" animation_speed="0.3" animation_direction="
 left" hide_on_mobile="small-visibility\,medium-visibility\,large-visibilit
 y" center_content="no" last="true" min_height="" hover_type="none" link=""
  border_sizes_top="" border_sizes_bottom="" border_sizes_left="" border_si
 zes_right="" first="true"][fusion_text]\n\n[fusion_builder_container type=
 "flex" hundred_percent="no" equal_height_columns="no" menu_anchor="" hide_
 on_mobile="small-visibility\,medium-visibility\,large-visibility" class=""
  id="" background_color="" background_image="" background_position="center
  center" background_repeat="no-repeat" fade="no" background_parallax="none
 " parallax_speed="0.3" video_mp4="" video_webm="" video_ogv="" video_url="
 " video_aspect_ratio="16:9" video_loop="yes" video_mute="yes" overlay_colo
 r="" video_preview_image="" border_color="" border_style="solid" padding_t
 op="" padding_bottom="" padding_left="" padding_right=""][fusion_builder_r
 ow][fusion_builder_column type="1_1" layout="1_1" background_position="lef
 t top" background_color="" border_color="" border_style="solid" border_pos
 ition="all" spacing="yes" background_image="" background_repeat="no-repeat
 " padding_top="" padding_right="" padding_bottom="" padding_left="" margin
 _top="0px" margin_bottom="0px" class="" id="" animation_type="" animation_
 speed="0.3" animation_direction="left" hide_on_mobile="small-visibility\,m
 edium-visibility\,large-visibility" center_content="no" last="true" min_he
 ight="" hover_type="none" link="" border_sizes_top="" border_sizes_bottom=
 "" border_sizes_left="" border_sizes_right="" first="true"][fusion_text][f
 usion_text]\n\n[/fusion_text][/fusion_builder_column][/fusion_builder_row]
 [/fusion_builder_container][fusion_builder_container type="flex" hundred_p
 ercent="no" equal_height_columns="no" menu_anchor="" hide_on_mobile="small
 -visibility\,medium-visibility\,large-visibility" class="" id="" backgroun
 d_color="" background_image="" background_position="center center" backgro
 und_repeat="no-repeat" fade="no" background_parallax="none" parallax_speed
 ="0.3" video_mp4="" video_webm="" video_ogv="" video_url="" video_aspect_r
 atio="16:9" video_loop="yes" video_mute="yes" overlay_color="" video_previ
 ew_image="" border_color="" border_style="solid" padding_top="" padding_bo
 ttom="" padding_left="" padding_right=""][/fusion_builder_container]
LOCATION:Universitätsklinikum Dresden\, Fetscherstraße 74\, Dresden\, 013
 07\, Deutschland
X-APPLE-STRUCTURED-LOCATION;VALUE=URI;X-ADDRESS=Fetscherstraße 74\, Dresde
 n\, 01307\, Deutschland;X-APPLE-RADIUS=100;X-TITLE=Universitätsklinikum D
 resden:geo:0,0
END:VEVENT
END:VCALENDAR