BEGIN:VCALENDAR
VERSION:2.0
PRODID:-//wp-events-plugin.com//7.2.3.1//EN
BEGIN:VEVENT
UID:1427@carus-management.de
DTSTART;VALUE=DATE:20260312
DTEND;VALUE=DATE:20260315
DTSTAMP:20260303T131049Z
URL:https://www.carus-management.de/veranstaltungen/17th-dresden-symposium
 -on-feto-neonatal-health/
SUMMARY:17th Dresden Symposium on Feto-Neonatal Health
DESCRIPTION:[fusion_builder_container type="flex" hundred_percent="no" equa
 l_height_columns="no" menu_anchor="" hide_on_mobile="small-visibility\,med
 ium-visibility\,large-visibility" class="" id="" background_color="" backg
 round_image="" background_position="center center" background_repeat="no-r
 epeat" fade="no" background_parallax="none" parallax_speed="0.3" video_mp4
 ="" video_webm="" video_ogv="" video_url="" video_aspect_ratio="16:9" vide
 o_loop="yes" video_mute="yes" overlay_color="" video_preview_image="" bord
 er_color="" border_style="solid" padding_top="" padding_bottom="" padding_
 left="" padding_right=""][fusion_builder_row][fusion_builder_column type="
 1_1" layout="1_1" background_position="left top" background_color="" borde
 r_color="" border_style="solid" border_position="all" spacing="yes" backgr
 ound_image="" background_repeat="no-repeat" padding_top="" padding_right="
 " padding_bottom="" padding_left="" margin_top="0px" margin_bottom="0px" c
 lass="" id="" animation_type="" animation_speed="0.3" animation_direction=
 "left" hide_on_mobile="small-visibility\,medium-visibility\,large-visibili
 ty" center_content="no" last="true" min_height="" hover_type="none" link="
 " border_sizes_top="" border_sizes_bottom="" border_sizes_left="" border_s
 izes_right="" first="true"][fusion_text columns="" column_min_width="" col
 umn_spacing="" rule_style="" rule_size="" rule_color="" hue="" saturation=
 "" lightness="" alpha="" user_select="" awb-switch-editor-focus="" content
 _alignment_medium="" content_alignment_small="" content_alignment="" disab
 le_idd="no" hide_on_mobile="small-visibility\,medium-visibility\,large-vis
 ibility" sticky_display="normal\,sticky" class="" id="" html_attributes="W
 10=" width_medium="" width_small="" width="" min_width_medium="" min_width
 _small="" min_width="" max_width_medium="" max_width_small="" max_width=""
  margin_top_medium="" margin_right_medium="" margin_bottom_medium="" margi
 n_left_medium="" margin_top_small="" margin_right_small="" margin_bottom_s
 mall="" margin_left_small="" margin_top="" margin_right="" margin_bottom="
 " margin_left="" fusion_font_family_text_font="" fusion_font_variant_text_
 font="" font_size="" line_height="" letter_spacing="" text_transform="" te
 xt_color="" render_logics="" logics="" animation_type="" animation_directi
 on="left" animation_color="" animation_speed="0.3" animation_delay="0" ani
 mation_offset=""]\n\nProgramm - 17th Dresden Symposium - 12.-14.03.2026\n\
 n[/fusion_text][fusion_text columns="" column_min_width="" column_spacing=
 "" rule_style="" rule_size="" rule_color="" hue="" saturation="" lightness
 ="" alpha="" user_select="" awb-switch-editor-focus="" content_alignment_m
 edium="" content_alignment_small="" content_alignment="" disable_idd="no" 
 hide_on_mobile="small-visibility\,medium-visibility\,large-visibility" sti
 cky_display="normal\,sticky" class="" id="" html_attributes="W10=" width_m
 edium="" width_small="" width="" min_width_medium="" min_width_small="" mi
 n_width="" max_width_medium="" max_width_small="" max_width="" margin_top_
 medium="" margin_right_medium="" margin_bottom_medium="" margin_left_mediu
 m="" margin_top_small="" margin_right_small="" margin_bottom_small="" marg
 in_left_small="" margin_top="" margin_right="" margin_bottom="" margin_lef
 t="" fusion_font_family_text_font="" fusion_font_variant_text_font="" font
 _size="" line_height="" letter_spacing="" text_transform="" text_color="" 
 render_logics="" logics="" animation_type="" animation_direction="left" an
 imation_color="" animation_speed="0.3" animation_delay="0" animation_offse
 t=""]\n\nOffenlegung Sponsoring - 17th Dresden Symposium - 12.-14.03.2026\
 n\n[/fusion_text][/fusion_builder_column][/fusion_builder_row][/fusion_bui
 lder_container][fusion_builder_container type="flex" hundred_percent="no" 
 equal_height_columns="no" menu_anchor="" hide_on_mobile="small-visibility\
 ,medium-visibility\,large-visibility" class="" id="" background_color="" b
 ackground_image="" background_position="center center" background_repeat="
 no-repeat" fade="no" background_parallax="none" parallax_speed="0.3" video
 _mp4="" video_webm="" video_ogv="" video_url="" video_aspect_ratio="16:9" 
 video_loop="yes" video_mute="yes" overlay_color="" video_preview_image="" 
 border_color="" border_style="solid" padding_top="" padding_bottom="" padd
 ing_left="" padding_right=""][fusion_builder_row][fusion_builder_column ty
 pe="1_1" layout="1_1" background_position="left top" background_color="" b
 order_color="" border_style="solid" border_position="all" spacing="yes" ba
 ckground_image="" background_repeat="no-repeat" padding_top="" padding_rig
 ht="" padding_bottom="" padding_left="" margin_top="0px" margin_bottom="0p
 x" class="" id="" animation_type="" animation_speed="0.3" animation_direct
 ion="left" hide_on_mobile="small-visibility\,medium-visibility\,large-visi
 bility" center_content="no" last="true" min_height="" hover_type="none" li
 nk="" border_sizes_top="" border_sizes_bottom="" border_sizes_left="" bord
 er_sizes_right="" first="true"][/fusion_builder_column][/fusion_builder_ro
 w][/fusion_builder_container]
LOCATION:Universitätsklinikum Dresden\, Fetscherstraße 74\, Dresden\, 013
 07\, Deutschland
X-APPLE-STRUCTURED-LOCATION;VALUE=URI;X-ADDRESS=Fetscherstraße 74\, Dresde
 n\, 01307\, Deutschland;X-APPLE-RADIUS=100;X-TITLE=Universitätsklinikum D
 resden:geo:0,0
END:VEVENT
END:VCALENDAR