BEGIN:VCALENDAR
VERSION:2.0
PRODID:-//wp-events-plugin.com//7.2.3.1//EN
BEGIN:VEVENT
UID:1160@carus-management.de
DTSTART:20241207T100000Z
DTEND:20241207T130000Z
DTSTAMP:20241126T112753Z
URL:https://www.carus-management.de/veranstaltungen/12-vtg-symposium/
SUMMARY:12. VTG-Symposium
DESCRIPTION:finales Programm VTG Symposium 2024
LOCATION:Sächsische Landesärztekammer Dresden\, Schützenhöhe 16\, Dresd
 en\, 01099\, Deutschland
X-APPLE-STRUCTURED-LOCATION;VALUE=URI;X-ADDRESS=Schützenhöhe 16\, Dresden
 \, 01099\, Deutschland;X-APPLE-RADIUS=100;X-TITLE=Sächsische Landesärzte
 kammer Dresden:geo:0,0
END:VEVENT
END:VCALENDAR