BEGIN:VCALENDAR
VERSION:2.0
PRODID:-//wp-events-plugin.com//7.2.3.1//EN
BEGIN:VEVENT
UID:1495@carus-management.de
DTSTART;VALUE=DATE:20261001
DTEND;VALUE=DATE:20261002
DTSTAMP:20260122T072924Z
URL:https://www.carus-management.de/veranstaltungen/12-dresdner-fachtagung
 -neonatologische-und-paediatrische-intensivpflege-kindernotfaelle-im-fokus
 /
SUMMARY:12. Dresdner Fachtagung neonatologische und pädiatrische Intensivp
 flege "Kindernotfälle im Fokus"
DESCRIPTION:Savethedate_2026
LOCATION:Universitätsklinikum Dresden\, Fetscherstraße 74\, Dresden\, 013
 07\, Deutschland
X-APPLE-STRUCTURED-LOCATION;VALUE=URI;X-ADDRESS=Fetscherstraße 74\, Dresde
 n\, 01307\, Deutschland;X-APPLE-RADIUS=100;X-TITLE=Universitätsklinikum D
 resden:geo:0,0
END:VEVENT
END:VCALENDAR